BEGIN:VCALENDAR
VERSION:2.0
PRODID:-//Gemma - ECPv5.5.0.1//NONSGML v1.0//EN
CALSCALE:GREGORIAN
METHOD:PUBLISH
X-WR-CALNAME:Gemma
X-ORIGINAL-URL:https://gemmabookcafe.ro
X-WR-CALDESC:Events for Gemma
BEGIN:VTIMEZONE
TZID:Europe/Helsinki
BEGIN:DAYLIGHT
TZOFFSETFROM:+0200
TZOFFSETTO:+0300
TZNAME:EEST
DTSTART:20240331T010000
END:DAYLIGHT
BEGIN:STANDARD
TZOFFSETFROM:+0300
TZOFFSETTO:+0200
TZNAME:EET
DTSTART:20241027T010000
END:STANDARD
END:VTIMEZONE
BEGIN:VEVENT
DTSTART;TZID=Europe/Helsinki:20240229T190000
DTEND;TZID=Europe/Helsinki:20240229T200000
DTSTAMP:20260423T145133
CREATED:20240211T091733Z
LAST-MODIFIED:20240211T091733Z
UID:3902-1709233200-1709236800@gemmabookcafe.ro
SUMMARY:Gemma könyvklub 16 - Narine Abgarjan: Szimon
DESCRIPTION:Téma: Narine Abgarjan SZIMON című könyve\nA beszélgetést elindítják\, moderálják: Lázok Klára\, a Teleki Téka főkönyvtárosa\, Gemma nagykövet és Daray Erzsébet\, a Gemma boltvezetője\nIdőpont: február 29\, 19 óra\nHelyszín: Gemma Book Café\nRészvétel feltétele: egy ital megrendelése a bárnál 10-15 perccel a klub kezdete előtt\, valamint regisztráció a következő linken: https://forms.gle/N8bhX2NuTD5vBxpS7\nA résztvevők maximális létszáma 25 fő.\n“Meghal Szimon\, az örmény hegyi városka öreg kőművese\, a köztiszteletben álló\, de hírhedten csapodár férfi. Négy egykori szeretője is megjelenik a halottbúcsúztatón\, és némi feszengés után felelevenítik Szimonhoz kötődő emlékeiket. Hamar kiderül azonban\, hogy az egyszerre valóságos és mesebeli örmény hegyi falu nőalakjainak életében a férfi csupán epizódszereplő\, aki életük egy-egy nehéz pillanatában bukkant fel – a visszaemlékezésekből kibontakozó kaukázusi nősorsokat jóval több minden köti össze egymással\, mint az esendő\, de szeretetre méltó férfi szerelme. Narine Abgarjan egymásba indázó\, tragikomikus humorral és mágikus motívumokkal átszőtt történetei a szerelem és a gyengédség gazdag bestiáriumaként az élet bonyolultságáról\, kegyetlenségéről és szépségéről mesélnek\, kifogyhatatlan képzelőerővel és mély emberi melegséggel.”
URL:https://gemmabookcafe.ro/event/gemma-konyvklub-16-narine-abgarjan-szimon/
CATEGORIES:Gemma könyvklub
ATTACH;FMTTYPE=image/jpeg:https://gemmabookcafe.ro/wp-content/uploads/2024/02/Konyvklub-16.jpg
END:VEVENT
END:VCALENDAR