BEGIN:VCALENDAR
VERSION:2.0
PRODID:-//Gemma - ECPv5.5.0.1//NONSGML v1.0//EN
CALSCALE:GREGORIAN
METHOD:PUBLISH
X-WR-CALNAME:Gemma
X-ORIGINAL-URL:https://gemmabookcafe.ro
X-WR-CALDESC:Events for Gemma
BEGIN:VTIMEZONE
TZID:Europe/Helsinki
BEGIN:DAYLIGHT
TZOFFSETFROM:+0200
TZOFFSETTO:+0300
TZNAME:EEST
DTSTART:20230326T010000
END:DAYLIGHT
BEGIN:STANDARD
TZOFFSETFROM:+0300
TZOFFSETTO:+0200
TZNAME:EET
DTSTART:20231029T010000
END:STANDARD
END:VTIMEZONE
BEGIN:VEVENT
DTSTART;TZID=Europe/Helsinki:20230928T190000
DTEND;TZID=Europe/Helsinki:20230928T200000
DTSTAMP:20260420T114422
CREATED:20230915T112525Z
LAST-MODIFIED:20231004T153013Z
UID:3706-1695927600-1695931200@gemmabookcafe.ro
SUMMARY:Gemma könyvklub 11 - Nino Haratisvili: A nyolcadik élet
DESCRIPTION:Téma: Nino Haratisvili A nyolcadik élet című könyve \nModerátorok: Makkai Kinga pedagógia szakos tanár\, gyermekirodalmár\, Gemma nagykövet és Daray Erzsébet\, a Gemma boltvezetője\nIdőpont: szeptember 28\, 19 óra\nHelyszín: Gemma Book Café\nRészvétel feltétele: egy ital megrendelése a bárnál 10 – 15 perccel a klub kezdete előtt\, regisztráció a következő linken: https://forms.gle/jX2v3qQS6DzSftYH9\nA könyv megvásárolható a Gemmában\, 10% kedvezmény jár azoknak\, akik regisztrálnak az eseményre. \nNino Haratisvili: A NYOLCADIK ÉLET– Brilkának\nA 2020-as Nemzetközi Booker-díj döntős regénye\nEposzi méreteket öltő\, hat generáción átívelő családtörténet\na forradalmak\, terror és háborúk uralta „vörös évszázadban” \nEgy grúz cukrászmester a 19. és 20. század fordulóján\, nyugat-európai tanulóéveit követően\, hazatér és a Kaukázus Nizzájává kívánja varázsolni grúziai városkáját. Zsebében egy titkos csokoládérecept\, melynek segítségével torta- és bonbonkölteményei varázslatos ízvilágukkal meghódítják a nagyközönséget. A csokoládégyáros ükapa álmait azonban szétzúzza az orosz forradalom\, Grúzia szovjetizálása\, majd a sztálini terror mindenki sorsába beleszóló rémuralma.\nNégy lánya\, valamint leszármazottaik sorsa azonban\, bárhová is veti őket az élet a háborúk viszontagságai során – Moszkvába\, Szentpétervárra\, Londonba\, Berlinbe\, Bécsbe –\, mindig fordulatot vesz\, ha a családi örökségként továbbhagyományozott forró csokoládé illata betölti a házuk helyiségeit egy-egy titkos\, éjszakai szeánszon.\nHogy jó vagy rossz fordulatot\, nem mindig egyértelmű. Dördüljenek el akár az Auróra ágyúi\, fröcsköljenek maró mérget egy csodaszép nő arcára\, hurcoljanak el a Gulagra egy költőnőt\, törjön darabokra egy balerina álma a párizsi karrierről\, vagy járjon be nyugat-európai körutat egy grúz sanzonénekes\, akinek aztán évtizedek múltán a nyomába szegődik a kislány Brilka… mind a múltjukban\, az előző generációk döntéseiben keresik életük folyásának és legfőbb kérdéseinek okát – mert mindannyian összetartoznak\, sorsuk\, akár egy szőnyeg fonalai\, egymásba szövődik\, együttesen adja ki az élet mintáját.\nA nyolcadik élet sűrű szövésű\, nagyszabású regény\,\ntele félelmetes\, ugyanakkor lélekmelengető történetekkel –\nigazi nagyepikai alkotás\, évezredfordulós Háború és béke.
URL:https://gemmabookcafe.ro/event/gemma-konyvklub-nino-haratisvili-a-nyolcadik-elet/
CATEGORIES:Gemma könyvklub
ATTACH;FMTTYPE=image/jpeg:https://gemmabookcafe.ro/wp-content/uploads/2023/09/Konyvklub-10-1.jpg
END:VEVENT
END:VCALENDAR