BEGIN:VCALENDAR
VERSION:2.0
PRODID:-//Gemma - ECPv5.5.0.1//NONSGML v1.0//EN
CALSCALE:GREGORIAN
METHOD:PUBLISH
X-WR-CALNAME:Gemma
X-ORIGINAL-URL:https://gemmabookcafe.ro
X-WR-CALDESC:Events for Gemma
BEGIN:VTIMEZONE
TZID:Europe/Helsinki
BEGIN:DAYLIGHT
TZOFFSETFROM:+0200
TZOFFSETTO:+0300
TZNAME:EEST
DTSTART:20240331T010000
END:DAYLIGHT
BEGIN:STANDARD
TZOFFSETFROM:+0300
TZOFFSETTO:+0200
TZNAME:EET
DTSTART:20241027T010000
END:STANDARD
END:VTIMEZONE
BEGIN:VEVENT
DTSTART;TZID=Europe/Helsinki:20240831T170000
DTEND;TZID=Europe/Helsinki:20240831T180000
DTSTAMP:20260422T144235
CREATED:20240820T133925Z
LAST-MODIFIED:20240820T133925Z
UID:4065-1725123600-1725127200@gemmabookcafe.ro
SUMMARY:Keresztes Ildikó: Vallomások
DESCRIPTION: Rendkívüli beszélgetésre kerül sor a Duma tér színpadán a Gemma Book Café szervezésében.\n Keresztes Ildikó marosvásárhelyi születésű Máté Péter-díjas magyar énekesnő\, színésznő\, előadóművész Gecse Ramóna színművésznővel beszélget a 2014-ben\, Budapesten megjelentetett életrajzi kötetéről\, a Koronczay Lilla – Keresztes Ildikó szerzőpáros által jegyzett\, fotókkal is ellátott 𝐸𝑔𝑒́𝑠𝑧𝑒𝑛\, 𝑚𝑒𝑟𝑡 𝑓𝑒́𝑙𝑖𝑔 𝑛𝑒𝑚 𝑡𝑢𝑑𝑜𝑘. 𝐴 𝑠𝑜𝑘𝑜𝑙𝑑𝑎𝑙𝑢́ 𝑑𝑖́𝑣𝑎 𝑜̋𝑠𝑧𝑖𝑛𝑡𝑒 𝑣𝑎𝑙𝑙𝑜𝑚𝑎́𝑠𝑎 című könyvről. \n A beszélgetést követően a művésznő három zenedarabot ad elő\, amit Suti kísér zongorán. \n Az életrajzi kötetet meg lehet vásárolni a Marosvásárhelyi Várban felállított Gemma Book Café sátránál. Az esemény végén Keresztes Ildikó dedikálja is a könyvét. \nMeghívott:𝐾𝑒𝑟𝑒𝑠𝑧𝑡𝑒𝑠 𝐼𝑙𝑑𝑖𝑘𝑜́ – Máté Péter-díjas magyar énekesnő\, színésznő\, előadóművész\nModerátor:Gecse Ramóna
URL:https://gemmabookcafe.ro/event/keresztes-ildiko-vallomasok/
CATEGORIES:Koncert,Könyvbemutató
ATTACH;FMTTYPE=image/jpeg:https://gemmabookcafe.ro/wp-content/uploads/2024/08/Keresztes.jpg
END:VEVENT
END:VCALENDAR