BEGIN:VCALENDAR
VERSION:2.0
PRODID:-//Gemma - ECPv5.5.0.1//NONSGML v1.0//EN
CALSCALE:GREGORIAN
METHOD:PUBLISH
X-WR-CALNAME:Gemma
X-ORIGINAL-URL:https://gemmabookcafe.ro
X-WR-CALDESC:Events for Gemma
BEGIN:VTIMEZONE
TZID:Europe/Helsinki
BEGIN:DAYLIGHT
TZOFFSETFROM:+0200
TZOFFSETTO:+0300
TZNAME:EEST
DTSTART:20240331T010000
END:DAYLIGHT
BEGIN:STANDARD
TZOFFSETFROM:+0300
TZOFFSETTO:+0200
TZNAME:EET
DTSTART:20241027T010000
END:STANDARD
END:VTIMEZONE
BEGIN:VEVENT
DTSTART;TZID=Europe/Helsinki:20240522T173000
DTEND;TZID=Europe/Helsinki:20240522T183000
DTSTAMP:20260425T205031
CREATED:20240520T160959Z
LAST-MODIFIED:20240520T160959Z
UID:4009-1716399000-1716402600@gemmabookcafe.ro
SUMMARY:Live Piano at Gemma
DESCRIPTION:HU Szerdán\, május 22-én\, 17.30-tól 18.30-ig a Gemmában SZÉKELY EDVIN zongorista élő zenét biztosít a vendégeink számára.Repertoár: örökzöld slágerek\, jazz improvizációk.\nA belépés nem jegyhez kötött\, várunk mindenkit szeretettel\, hogy kávé\, limonádé\, frissen facsart gyümölcslé\, koktél\, kézműves sör\, fröccs és isteni\, házias sütemények mellett\, egy laza\, baráti beszélgetés vagy csendes szemlélődés\, olvasás közben együtt élvezzük Edvin lendületes\, magával ragadó zongorajátékát.\n\nRO Miercuri\, 22 mai\, între orele 17.30 și 18.30\, pianistul EDVIN SZÉKELY va oferi muzică live pentru oaspeții noștri de la Gemma.Repertoriu: hituri evergreen\, improvizații de jazz.\nÎi invităm pe toți să se bucure de jocul de pian plin de viață și captivant al lui Edvin\, alături de cafea\, limonadă\, suc proaspăt\, cocktailuri\, bere artizanală\, spritzers și prăjituri delicioase\, în timp ce purtați o discuție relaxată și prietenoasă sau o contemplare liniștită\, citind.
URL:https://gemmabookcafe.ro/event/live-piano-at-gemma/
CATEGORIES:Koncert
ATTACH;FMTTYPE=image/jpeg:https://gemmabookcafe.ro/wp-content/uploads/2024/05/Green-Brown-Organic-Cafe-Facebook-Cover-1.jpg
END:VEVENT
END:VCALENDAR